BEGIN:VCALENDAR
VERSION:2.0
PRODID:-//Reenis - ECPv6.12.0.1//NONSGML v1.0//EN
CALSCALE:GREGORIAN
METHOD:PUBLISH
X-WR-CALNAME:Reenis
X-ORIGINAL-URL:https://reenis.fi
X-WR-CALDESC:Events for Reenis
REFRESH-INTERVAL;VALUE=DURATION:PT1H
X-Robots-Tag:noindex
X-PUBLISHED-TTL:PT1H
BEGIN:VTIMEZONE
TZID:Europe/Helsinki
BEGIN:DAYLIGHT
TZOFFSETFROM:+0200
TZOFFSETTO:+0300
TZNAME:EEST
DTSTART:20250330T010000
END:DAYLIGHT
BEGIN:STANDARD
TZOFFSETFROM:+0300
TZOFFSETTO:+0200
TZNAME:EET
DTSTART:20251026T010000
END:STANDARD
END:VTIMEZONE
BEGIN:VEVENT
DTSTART;TZID=Europe/Helsinki:20250601T093000
DTEND;TZID=Europe/Helsinki:20250601T110000
DTSTAMP:20260420T000644
CREATED:20250205T113950Z
LAST-MODIFIED:20250420T094051Z
UID:10006315-1748770200-1748775600@reenis.fi
SUMMARY:Perhevuoro
DESCRIPTION:Perhevuoro lauantaisin ja sunnuntaisin klo 9.30-11.00\, keskiviikkoisin klo 9.30-11.30. Perhevuorosta lisää täältä: https://reenis.fi/palvelut/perhevuoro/
URL:https://reenis.fi/tapahtuma/perhevuoro-2/2025-06-01/
CATEGORIES:Muu vuoro
END:VEVENT
BEGIN:VEVENT
DTSTART;TZID=Europe/Helsinki:20250602T110000
DTEND;TZID=Europe/Helsinki:20250602T140000
DTSTAMP:20260420T000644
CREATED:20250522T160017Z
LAST-MODIFIED:20250522T160148Z
UID:10006436-1748862000-1748872800@reenis.fi
SUMMARY:Kesäleiri
DESCRIPTION:Reenis avoinna yleisesti kaikille klo 11\, osa alueista voi olla varattuna leiriläisten käyttöön. Leirin ohjattu toiminta loppuu viimeistää klo 14. Kesäleireihin -25 pääset tutustumaan täältä. \nReeniksen kesäleirillä tarjoamme unohtumattoman seikkailun\, jossa lapset pääsevät nauttimaan monipuolisista liikuntamuodoista sekä sisätiloissa että ulkona. Leirillämme tunnelma on rento ja hauska\, täynnä temppuilua\, leikkejä ja uuden oppimista. \nLeirimme on suunniteltu erityisesti 7–13-vuotiaille koululaisille (syntynyt vuonna 2017 tai aiemmin) ja tarjoavat päivittäin unohtumattomia elämyksiä ja uusia ystävyyssuhteita.
URL:https://reenis.fi/tapahtuma/kesaleiri/2025-06-02/
CATEGORIES:Kurssi
END:VEVENT
BEGIN:VEVENT
DTSTART;TZID=Europe/Helsinki:20250603T110000
DTEND;TZID=Europe/Helsinki:20250603T140000
DTSTAMP:20260420T000644
CREATED:20250522T160017Z
LAST-MODIFIED:20250522T160148Z
UID:10006437-1748948400-1748959200@reenis.fi
SUMMARY:Kesäleiri
DESCRIPTION:Reenis avoinna yleisesti kaikille klo 11\, osa alueista voi olla varattuna leiriläisten käyttöön. Leirin ohjattu toiminta loppuu viimeistää klo 14. Kesäleireihin -25 pääset tutustumaan täältä. \nReeniksen kesäleirillä tarjoamme unohtumattoman seikkailun\, jossa lapset pääsevät nauttimaan monipuolisista liikuntamuodoista sekä sisätiloissa että ulkona. Leirillämme tunnelma on rento ja hauska\, täynnä temppuilua\, leikkejä ja uuden oppimista. \nLeirimme on suunniteltu erityisesti 7–13-vuotiaille koululaisille (syntynyt vuonna 2017 tai aiemmin) ja tarjoavat päivittäin unohtumattomia elämyksiä ja uusia ystävyyssuhteita.
URL:https://reenis.fi/tapahtuma/kesaleiri/2025-06-03/
CATEGORIES:Kurssi
END:VEVENT
BEGIN:VEVENT
DTSTART;TZID=Europe/Helsinki:20250604T110000
DTEND;TZID=Europe/Helsinki:20250604T140000
DTSTAMP:20260420T000644
CREATED:20250522T160017Z
LAST-MODIFIED:20250522T160148Z
UID:10006438-1749034800-1749045600@reenis.fi
SUMMARY:Kesäleiri
DESCRIPTION:Reenis avoinna yleisesti kaikille klo 11\, osa alueista voi olla varattuna leiriläisten käyttöön. Leirin ohjattu toiminta loppuu viimeistää klo 14. Kesäleireihin -25 pääset tutustumaan täältä. \nReeniksen kesäleirillä tarjoamme unohtumattoman seikkailun\, jossa lapset pääsevät nauttimaan monipuolisista liikuntamuodoista sekä sisätiloissa että ulkona. Leirillämme tunnelma on rento ja hauska\, täynnä temppuilua\, leikkejä ja uuden oppimista. \nLeirimme on suunniteltu erityisesti 7–13-vuotiaille koululaisille (syntynyt vuonna 2017 tai aiemmin) ja tarjoavat päivittäin unohtumattomia elämyksiä ja uusia ystävyyssuhteita.
URL:https://reenis.fi/tapahtuma/kesaleiri/2025-06-04/
CATEGORIES:Kurssi
END:VEVENT
BEGIN:VEVENT
DTSTART;TZID=Europe/Helsinki:20250605T110000
DTEND;TZID=Europe/Helsinki:20250605T140000
DTSTAMP:20260420T000644
CREATED:20250522T160017Z
LAST-MODIFIED:20250522T160148Z
UID:10006439-1749121200-1749132000@reenis.fi
SUMMARY:Kesäleiri
DESCRIPTION:Reenis avoinna yleisesti kaikille klo 11\, osa alueista voi olla varattuna leiriläisten käyttöön. Leirin ohjattu toiminta loppuu viimeistää klo 14. Kesäleireihin -25 pääset tutustumaan täältä. \nReeniksen kesäleirillä tarjoamme unohtumattoman seikkailun\, jossa lapset pääsevät nauttimaan monipuolisista liikuntamuodoista sekä sisätiloissa että ulkona. Leirillämme tunnelma on rento ja hauska\, täynnä temppuilua\, leikkejä ja uuden oppimista. \nLeirimme on suunniteltu erityisesti 7–13-vuotiaille koululaisille (syntynyt vuonna 2017 tai aiemmin) ja tarjoavat päivittäin unohtumattomia elämyksiä ja uusia ystävyyssuhteita.
URL:https://reenis.fi/tapahtuma/kesaleiri/2025-06-05/
CATEGORIES:Kurssi
END:VEVENT
BEGIN:VEVENT
DTSTART;TZID=Europe/Helsinki:20250606T110000
DTEND;TZID=Europe/Helsinki:20250606T140000
DTSTAMP:20260420T000644
CREATED:20250522T160017Z
LAST-MODIFIED:20250522T160148Z
UID:10006440-1749207600-1749218400@reenis.fi
SUMMARY:Kesäleiri
DESCRIPTION:Reenis avoinna yleisesti kaikille klo 11\, osa alueista voi olla varattuna leiriläisten käyttöön. Leirin ohjattu toiminta loppuu viimeistää klo 14. Kesäleireihin -25 pääset tutustumaan täältä. \nReeniksen kesäleirillä tarjoamme unohtumattoman seikkailun\, jossa lapset pääsevät nauttimaan monipuolisista liikuntamuodoista sekä sisätiloissa että ulkona. Leirillämme tunnelma on rento ja hauska\, täynnä temppuilua\, leikkejä ja uuden oppimista. \nLeirimme on suunniteltu erityisesti 7–13-vuotiaille koululaisille (syntynyt vuonna 2017 tai aiemmin) ja tarjoavat päivittäin unohtumattomia elämyksiä ja uusia ystävyyssuhteita.
URL:https://reenis.fi/tapahtuma/kesaleiri/2025-06-06/
CATEGORIES:Kurssi
END:VEVENT
BEGIN:VEVENT
DTSTART;TZID=Europe/Helsinki:20250607T093000
DTEND;TZID=Europe/Helsinki:20250607T110000
DTSTAMP:20260420T000644
CREATED:20250205T113950Z
LAST-MODIFIED:20250420T094051Z
UID:10006429-1749288600-1749294000@reenis.fi
SUMMARY:Perhevuoro
DESCRIPTION:Perhevuoro lauantaisin ja sunnuntaisin klo 9.30-11.00\, keskiviikkoisin klo 9.30-11.30. Perhevuorosta lisää täältä: https://reenis.fi/palvelut/perhevuoro/
URL:https://reenis.fi/tapahtuma/perhevuoro-2/2025-06-07/
CATEGORIES:Muu vuoro
END:VEVENT
BEGIN:VEVENT
DTSTART;TZID=Europe/Helsinki:20250608T093000
DTEND;TZID=Europe/Helsinki:20250608T110000
DTSTAMP:20260420T000644
CREATED:20250205T113950Z
LAST-MODIFIED:20250420T094051Z
UID:10006430-1749375000-1749380400@reenis.fi
SUMMARY:Perhevuoro
DESCRIPTION:Perhevuoro lauantaisin ja sunnuntaisin klo 9.30-11.00\, keskiviikkoisin klo 9.30-11.30. Perhevuorosta lisää täältä: https://reenis.fi/palvelut/perhevuoro/
URL:https://reenis.fi/tapahtuma/perhevuoro-2/2025-06-08/
CATEGORIES:Muu vuoro
END:VEVENT
BEGIN:VEVENT
DTSTART;TZID=Europe/Helsinki:20250609T110000
DTEND;TZID=Europe/Helsinki:20250609T140000
DTSTAMP:20260420T000644
CREATED:20250522T160017Z
LAST-MODIFIED:20250522T160148Z
UID:10006441-1749466800-1749477600@reenis.fi
SUMMARY:Kesäleiri
DESCRIPTION:Reenis avoinna yleisesti kaikille klo 11\, osa alueista voi olla varattuna leiriläisten käyttöön. Leirin ohjattu toiminta loppuu viimeistää klo 14. Kesäleireihin -25 pääset tutustumaan täältä. \nReeniksen kesäleirillä tarjoamme unohtumattoman seikkailun\, jossa lapset pääsevät nauttimaan monipuolisista liikuntamuodoista sekä sisätiloissa että ulkona. Leirillämme tunnelma on rento ja hauska\, täynnä temppuilua\, leikkejä ja uuden oppimista. \nLeirimme on suunniteltu erityisesti 7–13-vuotiaille koululaisille (syntynyt vuonna 2017 tai aiemmin) ja tarjoavat päivittäin unohtumattomia elämyksiä ja uusia ystävyyssuhteita.
URL:https://reenis.fi/tapahtuma/kesaleiri/2025-06-09/
CATEGORIES:Kurssi
END:VEVENT
BEGIN:VEVENT
DTSTART;TZID=Europe/Helsinki:20250610T110000
DTEND;TZID=Europe/Helsinki:20250610T140000
DTSTAMP:20260420T000644
CREATED:20250522T160017Z
LAST-MODIFIED:20250522T160148Z
UID:10006442-1749553200-1749564000@reenis.fi
SUMMARY:Kesäleiri
DESCRIPTION:Reenis avoinna yleisesti kaikille klo 11\, osa alueista voi olla varattuna leiriläisten käyttöön. Leirin ohjattu toiminta loppuu viimeistää klo 14. Kesäleireihin -25 pääset tutustumaan täältä. \nReeniksen kesäleirillä tarjoamme unohtumattoman seikkailun\, jossa lapset pääsevät nauttimaan monipuolisista liikuntamuodoista sekä sisätiloissa että ulkona. Leirillämme tunnelma on rento ja hauska\, täynnä temppuilua\, leikkejä ja uuden oppimista. \nLeirimme on suunniteltu erityisesti 7–13-vuotiaille koululaisille (syntynyt vuonna 2017 tai aiemmin) ja tarjoavat päivittäin unohtumattomia elämyksiä ja uusia ystävyyssuhteita.
URL:https://reenis.fi/tapahtuma/kesaleiri/2025-06-10/
CATEGORIES:Kurssi
END:VEVENT
BEGIN:VEVENT
DTSTART;TZID=Europe/Helsinki:20250611T110000
DTEND;TZID=Europe/Helsinki:20250611T140000
DTSTAMP:20260420T000644
CREATED:20250522T160017Z
LAST-MODIFIED:20250522T160148Z
UID:10006443-1749639600-1749650400@reenis.fi
SUMMARY:Kesäleiri
DESCRIPTION:Reenis avoinna yleisesti kaikille klo 11\, osa alueista voi olla varattuna leiriläisten käyttöön. Leirin ohjattu toiminta loppuu viimeistää klo 14. Kesäleireihin -25 pääset tutustumaan täältä. \nReeniksen kesäleirillä tarjoamme unohtumattoman seikkailun\, jossa lapset pääsevät nauttimaan monipuolisista liikuntamuodoista sekä sisätiloissa että ulkona. Leirillämme tunnelma on rento ja hauska\, täynnä temppuilua\, leikkejä ja uuden oppimista. \nLeirimme on suunniteltu erityisesti 7–13-vuotiaille koululaisille (syntynyt vuonna 2017 tai aiemmin) ja tarjoavat päivittäin unohtumattomia elämyksiä ja uusia ystävyyssuhteita.
URL:https://reenis.fi/tapahtuma/kesaleiri/2025-06-11/
CATEGORIES:Kurssi
END:VEVENT
BEGIN:VEVENT
DTSTART;TZID=Europe/Helsinki:20250612T110000
DTEND;TZID=Europe/Helsinki:20250612T140000
DTSTAMP:20260420T000644
CREATED:20250522T160017Z
LAST-MODIFIED:20250522T160148Z
UID:10006444-1749726000-1749736800@reenis.fi
SUMMARY:Kesäleiri
DESCRIPTION:Reenis avoinna yleisesti kaikille klo 11\, osa alueista voi olla varattuna leiriläisten käyttöön. Leirin ohjattu toiminta loppuu viimeistää klo 14. Kesäleireihin -25 pääset tutustumaan täältä. \nReeniksen kesäleirillä tarjoamme unohtumattoman seikkailun\, jossa lapset pääsevät nauttimaan monipuolisista liikuntamuodoista sekä sisätiloissa että ulkona. Leirillämme tunnelma on rento ja hauska\, täynnä temppuilua\, leikkejä ja uuden oppimista. \nLeirimme on suunniteltu erityisesti 7–13-vuotiaille koululaisille (syntynyt vuonna 2017 tai aiemmin) ja tarjoavat päivittäin unohtumattomia elämyksiä ja uusia ystävyyssuhteita.
URL:https://reenis.fi/tapahtuma/kesaleiri/2025-06-12/
CATEGORIES:Kurssi
END:VEVENT
BEGIN:VEVENT
DTSTART;TZID=Europe/Helsinki:20250613T110000
DTEND;TZID=Europe/Helsinki:20250613T140000
DTSTAMP:20260420T000644
CREATED:20250522T160017Z
LAST-MODIFIED:20250522T160148Z
UID:10006445-1749812400-1749823200@reenis.fi
SUMMARY:Kesäleiri
DESCRIPTION:Reenis avoinna yleisesti kaikille klo 11\, osa alueista voi olla varattuna leiriläisten käyttöön. Leirin ohjattu toiminta loppuu viimeistää klo 14. Kesäleireihin -25 pääset tutustumaan täältä. \nReeniksen kesäleirillä tarjoamme unohtumattoman seikkailun\, jossa lapset pääsevät nauttimaan monipuolisista liikuntamuodoista sekä sisätiloissa että ulkona. Leirillämme tunnelma on rento ja hauska\, täynnä temppuilua\, leikkejä ja uuden oppimista. \nLeirimme on suunniteltu erityisesti 7–13-vuotiaille koululaisille (syntynyt vuonna 2017 tai aiemmin) ja tarjoavat päivittäin unohtumattomia elämyksiä ja uusia ystävyyssuhteita.
URL:https://reenis.fi/tapahtuma/kesaleiri/2025-06-13/
CATEGORIES:Kurssi
END:VEVENT
BEGIN:VEVENT
DTSTART;TZID=Europe/Helsinki:20250614T093000
DTEND;TZID=Europe/Helsinki:20250614T110000
DTSTAMP:20260420T000644
CREATED:20250205T113950Z
LAST-MODIFIED:20250420T094051Z
UID:10006431-1749893400-1749898800@reenis.fi
SUMMARY:Perhevuoro
DESCRIPTION:Perhevuoro lauantaisin ja sunnuntaisin klo 9.30-11.00\, keskiviikkoisin klo 9.30-11.30. Perhevuorosta lisää täältä: https://reenis.fi/palvelut/perhevuoro/
URL:https://reenis.fi/tapahtuma/perhevuoro-2/2025-06-14/
CATEGORIES:Muu vuoro
END:VEVENT
BEGIN:VEVENT
DTSTART;TZID=Europe/Helsinki:20250615T093000
DTEND;TZID=Europe/Helsinki:20250615T110000
DTSTAMP:20260420T000644
CREATED:20250205T113950Z
LAST-MODIFIED:20250420T094051Z
UID:10006432-1749979800-1749985200@reenis.fi
SUMMARY:Perhevuoro
DESCRIPTION:Perhevuoro lauantaisin ja sunnuntaisin klo 9.30-11.00\, keskiviikkoisin klo 9.30-11.30. Perhevuorosta lisää täältä: https://reenis.fi/palvelut/perhevuoro/
URL:https://reenis.fi/tapahtuma/perhevuoro-2/2025-06-15/
CATEGORIES:Muu vuoro
END:VEVENT
BEGIN:VEVENT
DTSTART;TZID=Europe/Helsinki:20250616T110000
DTEND;TZID=Europe/Helsinki:20250616T140000
DTSTAMP:20260420T000644
CREATED:20250522T160017Z
LAST-MODIFIED:20250522T160148Z
UID:10006446-1750071600-1750082400@reenis.fi
SUMMARY:Kesäleiri
DESCRIPTION:Reenis avoinna yleisesti kaikille klo 11\, osa alueista voi olla varattuna leiriläisten käyttöön. Leirin ohjattu toiminta loppuu viimeistää klo 14. Kesäleireihin -25 pääset tutustumaan täältä. \nReeniksen kesäleirillä tarjoamme unohtumattoman seikkailun\, jossa lapset pääsevät nauttimaan monipuolisista liikuntamuodoista sekä sisätiloissa että ulkona. Leirillämme tunnelma on rento ja hauska\, täynnä temppuilua\, leikkejä ja uuden oppimista. \nLeirimme on suunniteltu erityisesti 7–13-vuotiaille koululaisille (syntynyt vuonna 2017 tai aiemmin) ja tarjoavat päivittäin unohtumattomia elämyksiä ja uusia ystävyyssuhteita.
URL:https://reenis.fi/tapahtuma/kesaleiri/2025-06-16/
CATEGORIES:Kurssi
END:VEVENT
BEGIN:VEVENT
DTSTART;TZID=Europe/Helsinki:20250617T110000
DTEND;TZID=Europe/Helsinki:20250617T140000
DTSTAMP:20260420T000644
CREATED:20250522T160017Z
LAST-MODIFIED:20250522T160148Z
UID:10006447-1750158000-1750168800@reenis.fi
SUMMARY:Kesäleiri
DESCRIPTION:Reenis avoinna yleisesti kaikille klo 11\, osa alueista voi olla varattuna leiriläisten käyttöön. Leirin ohjattu toiminta loppuu viimeistää klo 14. Kesäleireihin -25 pääset tutustumaan täältä. \nReeniksen kesäleirillä tarjoamme unohtumattoman seikkailun\, jossa lapset pääsevät nauttimaan monipuolisista liikuntamuodoista sekä sisätiloissa että ulkona. Leirillämme tunnelma on rento ja hauska\, täynnä temppuilua\, leikkejä ja uuden oppimista. \nLeirimme on suunniteltu erityisesti 7–13-vuotiaille koululaisille (syntynyt vuonna 2017 tai aiemmin) ja tarjoavat päivittäin unohtumattomia elämyksiä ja uusia ystävyyssuhteita.
URL:https://reenis.fi/tapahtuma/kesaleiri/2025-06-17/
CATEGORIES:Kurssi
END:VEVENT
BEGIN:VEVENT
DTSTART;TZID=Europe/Helsinki:20250618T110000
DTEND;TZID=Europe/Helsinki:20250618T140000
DTSTAMP:20260420T000644
CREATED:20250522T160017Z
LAST-MODIFIED:20250522T160148Z
UID:10006448-1750244400-1750255200@reenis.fi
SUMMARY:Kesäleiri
DESCRIPTION:Reenis avoinna yleisesti kaikille klo 11\, osa alueista voi olla varattuna leiriläisten käyttöön. Leirin ohjattu toiminta loppuu viimeistää klo 14. Kesäleireihin -25 pääset tutustumaan täältä. \nReeniksen kesäleirillä tarjoamme unohtumattoman seikkailun\, jossa lapset pääsevät nauttimaan monipuolisista liikuntamuodoista sekä sisätiloissa että ulkona. Leirillämme tunnelma on rento ja hauska\, täynnä temppuilua\, leikkejä ja uuden oppimista. \nLeirimme on suunniteltu erityisesti 7–13-vuotiaille koululaisille (syntynyt vuonna 2017 tai aiemmin) ja tarjoavat päivittäin unohtumattomia elämyksiä ja uusia ystävyyssuhteita.
URL:https://reenis.fi/tapahtuma/kesaleiri/2025-06-18/
CATEGORIES:Kurssi
END:VEVENT
BEGIN:VEVENT
DTSTART;TZID=Europe/Helsinki:20250619T110000
DTEND;TZID=Europe/Helsinki:20250619T140000
DTSTAMP:20260420T000644
CREATED:20250522T160017Z
LAST-MODIFIED:20250522T160148Z
UID:10006449-1750330800-1750341600@reenis.fi
SUMMARY:Kesäleiri
DESCRIPTION:Reenis avoinna yleisesti kaikille klo 11\, osa alueista voi olla varattuna leiriläisten käyttöön. Leirin ohjattu toiminta loppuu viimeistää klo 14. Kesäleireihin -25 pääset tutustumaan täältä. \nReeniksen kesäleirillä tarjoamme unohtumattoman seikkailun\, jossa lapset pääsevät nauttimaan monipuolisista liikuntamuodoista sekä sisätiloissa että ulkona. Leirillämme tunnelma on rento ja hauska\, täynnä temppuilua\, leikkejä ja uuden oppimista. \nLeirimme on suunniteltu erityisesti 7–13-vuotiaille koululaisille (syntynyt vuonna 2017 tai aiemmin) ja tarjoavat päivittäin unohtumattomia elämyksiä ja uusia ystävyyssuhteita.
URL:https://reenis.fi/tapahtuma/kesaleiri/2025-06-19/
CATEGORIES:Kurssi
END:VEVENT
END:VCALENDAR