BEGIN:VCALENDAR
VERSION:2.0
PRODID:-//Reenis - ECPv6.12.0.1//NONSGML v1.0//EN
CALSCALE:GREGORIAN
METHOD:PUBLISH
X-WR-CALNAME:Reenis
X-ORIGINAL-URL:https://reenis.fi
X-WR-CALDESC:Events for Reenis
REFRESH-INTERVAL;VALUE=DURATION:PT1H
X-Robots-Tag:noindex
X-PUBLISHED-TTL:PT1H
BEGIN:VTIMEZONE
TZID:Europe/Helsinki
BEGIN:DAYLIGHT
TZOFFSETFROM:+0200
TZOFFSETTO:+0300
TZNAME:EEST
DTSTART:20260329T010000
END:DAYLIGHT
BEGIN:STANDARD
TZOFFSETFROM:+0300
TZOFFSETTO:+0200
TZNAME:EET
DTSTART:20261025T010000
END:STANDARD
END:VTIMEZONE
BEGIN:VEVENT
DTSTART;TZID=Europe/Helsinki:20260504T170000
DTEND;TZID=Europe/Helsinki:20260504T174500
DTSTAMP:20260420T092023
CREATED:20260109T134425Z
LAST-MODIFIED:20260109T135308Z
UID:10007204-1777914000-1777916700@reenis.fi
SUMMARY:Temppujumppa 1 / 4-6v
DESCRIPTION:Temppujumpat pidetään taitotilassa\, Reenis GYM:n vieressä. Tule kokemaan liikunnan iloa ja kehittämään taitoja yhdessä samanhenkisten kavereiden kanssa – temppujumppa on viikon kohokohta pienille tempputaitureille! Lisää tieto täällä. \nLähde mukaan 4–6-vuotiaiden temppujumppaan\, jossa liikunnan riemu kohtaa leikkien hauskuuden! Tämä innostava ja energinen tunti on suunniteltu alle kouluikäisille\, tarjoten monipuolista harjoitusta perusliikuntataidoissa – kuten hyppimistä\, kiipeilyä\, tasapainoilua ja paljon muuta. Temppujumpassa opitaan liikkumisen ohella myös yhdessä tekemisen taitoja\, ohjeiden kuuntelua ja toisten huomioimista\, kaikki rennossa ja iloisessa ilmapiirissä. Lasten ja nuorten kursseista lisäinfoa! 
URL:https://reenis.fi/tapahtuma/temppujumppa-1-4-6v/2026-05-04/
CATEGORIES:Taito -ja joogatila
END:VEVENT
BEGIN:VEVENT
DTSTART;TZID=Europe/Helsinki:20260504T180000
DTEND;TZID=Europe/Helsinki:20260504T184500
DTSTAMP:20260420T092023
CREATED:20260109T134639Z
LAST-MODIFIED:20260109T135340Z
UID:10007220-1777917600-1777920300@reenis.fi
SUMMARY:Temppujumppa 2 / 4-6v
DESCRIPTION:Temppujumpat pidetään taitotilassa\, Reenis GYM:n vieressä. Tule kokemaan liikunnan iloa ja kehittämään taitoja yhdessä samanhenkisten kavereiden kanssa – temppujumppa on viikon kohokohta pienille tempputaitureille! Lisää tieto täällä. \nLähde mukaan 4–6-vuotiaiden temppujumppaan\, jossa liikunnan riemu kohtaa leikkien hauskuuden! Tämä innostava ja energinen tunti on suunniteltu alle kouluikäisille\, tarjoten monipuolista harjoitusta perusliikuntataidoissa – kuten hyppimistä\, kiipeilyä\, tasapainoilua ja paljon muuta. Temppujumpassa opitaan liikkumisen ohella myös yhdessä tekemisen taitoja\, ohjeiden kuuntelua ja toisten huomioimista\, kaikki rennossa ja iloisessa ilmapiirissä. Lasten ja nuorten kursseista lisäinfoa! 
URL:https://reenis.fi/tapahtuma/temppujumppa-2-4-6v-2/2026-05-04/
CATEGORIES:Taito -ja joogatila
END:VEVENT
BEGIN:VEVENT
DTSTART;TZID=Europe/Helsinki:20260507T190000
DTEND;TZID=Europe/Helsinki:20260507T200000
DTSTAMP:20260420T092023
CREATED:20251016T093126Z
LAST-MODIFIED:20251016T093126Z
UID:10007179-1778180400-1778184000@reenis.fi
SUMMARY:Nuorten action 15-19 v
DESCRIPTION:Oulun kaupungin Action -vuorot ovat 15-19 -vuotiaille maksuttomia treenikertoja. Action vuorot järjestetään torstaisin klo 19-20 ja mukaan mahtuu ensimmäiset 25 henkilöä! Reenis on avoinna kaikilla normaalisti vuoron aikana.
URL:https://reenis.fi/tapahtuma/nuorten-action-15-19-v/2026-05-07/
CATEGORIES:Muu vuoro
END:VEVENT
BEGIN:VEVENT
DTSTART;TZID=Europe/Helsinki:20260514T190000
DTEND;TZID=Europe/Helsinki:20260514T200000
DTSTAMP:20260420T092023
CREATED:20251016T093126Z
LAST-MODIFIED:20251016T093126Z
UID:10007180-1778785200-1778788800@reenis.fi
SUMMARY:Nuorten action 15-19 v
DESCRIPTION:Oulun kaupungin Action -vuorot ovat 15-19 -vuotiaille maksuttomia treenikertoja. Action vuorot järjestetään torstaisin klo 19-20 ja mukaan mahtuu ensimmäiset 25 henkilöä! Reenis on avoinna kaikilla normaalisti vuoron aikana.
URL:https://reenis.fi/tapahtuma/nuorten-action-15-19-v/2026-05-14/
CATEGORIES:Muu vuoro
END:VEVENT
END:VCALENDAR